BEGIN:VCALENDAR
VERSION:2.0
PRODID:-//Library Market//iCal Export//EN
BEGIN:VEVENT
SUMMARY:Book Discussion: &quot;Broken Country&quot; by Clare Leslie Hall
UID:216559
DTSTAMP:20260424T081900Z
DTSTART:20260702T190000Z
DTEND:20260702T200000Z
LOCATION:McClay Branch, 2760 McClay Rd, St Charles, MO 63303, United State
 s
ROOM: Community Room A&amp;B
DESCRIPTION:Broken Country is a Reese&#039;s Book Club pick, a New York Ti
 mes bestseller, and a poignant, suspenseful novel about love, loss, and se
 crets set in the English countryside. This event also occurs on Wednesday
 , July 1 at 2:00PM. Please register for only one event.  For additional 
 copies, ebooks and/or eaudiobooks please visit the library website. 
URL:https://stcharles.librarycalendar.com/event/hold-book-discussion-21655
 9
END:VEVENT
END:VCALENDAR
