BEGIN:VCALENDAR
VERSION:2.0
PRODID:-//Library Market//iCal Export//EN
BEGIN:VEVENT
SUMMARY:Read to a Dog!
UID:217623
DTSTAMP:20260422T101800Z
DTSTART:20260716T230000Z
DTEND:20260717T000000Z
LOCATION:Middendorf-Kredell Branch, 2750 State Hwy K, O&#039;Fallon, MO 63
 368, United States
ROOM: Community Room A&amp;B
DESCRIPTION:This class is a partnership between the Library and CHAMP Assi
 stance Dogs.
URL:https://stcharles.librarycalendar.com/event/read-dog-217623
END:VEVENT
END:VCALENDAR
