BEGIN:VCALENDAR
VERSION:2.0
PRODID:-//Library Market//iCal Export//EN
BEGIN:VEVENT
SUMMARY:Hold for Grace Program
UID:217814
DTSTAMP:20260422T101800Z
DTSTART:20260822T190000Z
DTEND:20260822T200000Z
LOCATION:Corporate Parkway Branch, 1200 Corporate Pkwy, Wentzville, MO 633
 85, United States
ROOM: Community Room A&amp;B
DESCRIPTION:
URL:https://stcharles.librarycalendar.com/event/hold-grace-program-217814
END:VEVENT
END:VCALENDAR
