BEGIN:VCALENDAR
VERSION:2.0
PRODID:-//Library Market//iCal Export//EN
BEGIN:VEVENT
SUMMARY:Homeschool Explorers: Diamond Painting- Patriotic Keychain
UID:218911
DTSTAMP:20260425T210800Z
DTSTART:20260609T190000Z
DTEND:20260609T200000Z
LOCATION:Cliff View Branch, 10 Cliff View Dr, Wentzville, MO 63385, United
  States
ROOM: Community Room
DESCRIPTION:Come meet with friends to explore, learn, make art and more! T
 his month we will be creating a beautiful diamond painted 4th of July Keyc
 hain! This class is recommended for Grades 1-6.      
URL:https://stcharles.librarycalendar.com/event/homeschool-explorers-21891
 1
END:VEVENT
END:VCALENDAR
