BEGIN:VCALENDAR
VERSION:2.0
PRODID:-//Library Market//iCal Export//EN
BEGIN:VEVENT
SUMMARY:Make It Monday
UID:219581
DTSTAMP:20260421T110900Z
DTSTART:20260713T150000Z
DTEND:20260713T220000Z
LOCATION:Augusta Branch, 198 Jackson St, Augusta, MO 63332, United States
ROOM: Conference Room
DESCRIPTION:We have the space, you bring your project to work on!Grab a fr
 iend, come to the Augusta Branch, and work on your unfinished projects! Sp
 end all day or just a little while. Ironing boards will be set up. Two sew
 ing machines available to share. Feel free to bring your own lunch and sna
 cks. Enjoy the beautiful drive on your way here! Please register as space
  is limited.
URL:https://stcharles.librarycalendar.com/event/make-it-monday-219581
END:VEVENT
END:VCALENDAR
