BEGIN:VCALENDAR
VERSION:2.0
PRODID:-//Library Market//iCal Export//EN
BEGIN:VEVENT
SUMMARY:English Paper Piecing
UID:219653
DTSTAMP:20260426T002400Z
DTSTART:20260721T190000Z
DTEND:20260721T210000Z
LOCATION:Augusta Branch, 198 Jackson St, Augusta, MO 63332, United States
ROOM: Conference Room
DESCRIPTION:Learn how to do English Paper Piecing, a fun method of sewing 
 fabric pieces together to make small projects, quilts, and decorative item
 s.Come and stitch with others who also enjoy making things with English Pa
 per Piecing. If you are new to English Paper Piecing, we will get you sta
 rted! After that, please select a personal EPP project to work on at each 
 meeting.In addition, each month we will learn something new in EPP - patte
 rn, skill, project, etc...we are always sharing fun EPP ideas!You will nee
 d to bring basic sewing supplies (scissors, needle, thread, pins). If ther
 e is anything else you need to bring, an email will be sent out about a we
 ek prior to class.Also, we love to see your Show &amp; Tell of finished an
 d ongoing projects of any crafty type!Please be sure to register. 
URL:https://stcharles.librarycalendar.com/event/english-paper-piecing-2196
 53
END:VEVENT
END:VCALENDAR
