BEGIN:VCALENDAR
VERSION:2.0
PRODID:-//Library Market//iCal Export//EN
BEGIN:VEVENT
SUMMARY:Homeschool Explorers
UID:220176
DTSTAMP:20260425T121400Z
DTSTART:20260703T180000Z
DTEND:20260703T190000Z
LOCATION:Kathryn Linnemann Branch, 2323 Elm St, St Charles, MO 63301, Unit
 ed States
ROOM: Community Room B
DESCRIPTION:
URL:https://stcharles.librarycalendar.com/event/homeschool-explorers-22017
 6
END:VEVENT
END:VCALENDAR
