BEGIN:VCALENDAR
VERSION:2.0
PRODID:-//Library Market//iCal Export//EN
BEGIN:VEVENT
SUMMARY:Teen Leadership Committee
UID:220285
DTSTAMP:20260425T121400Z
DTSTART:20260720T223000Z
DTEND:20260721T003000Z
LOCATION:Middendorf-Kredell Branch, 2750 State Hwy K, O&#039;Fallon, MO 63
 368, United States
ROOM: Community Room B
DESCRIPTION:Be a part of the decision making process at the Library. Help 
 plan programs, give book recommendations, promote the library, and eat som
 e snacks!Interested in joining TLC? Come to a meeting! We&#039;ll get you 
 set up from there.  Attendees can receive two hours of volunteer credit f
 or attending (plus any extra participation you put in outside of meetings)
 .
URL:https://stcharles.librarycalendar.com/event/hold-tlc-220285
END:VEVENT
END:VCALENDAR
