BEGIN:VCALENDAR
VERSION:2.0
PRODID:-//Library Market//iCal Export//EN
BEGIN:VEVENT
SUMMARY:Dinosaur Trivia
UID:221068
DTSTAMP:20260422T101800Z
DTSTART:20260706T230000Z
DTEND:20260707T000000Z
LOCATION:Middendorf-Kredell Branch, 2750 State Hwy K, O&#039;Fallon, MO 63
 368, United States
ROOM: Community Room A&amp;B
DESCRIPTION:Test your dinosaur knowledge at the library with trivia!
URL:https://stcharles.librarycalendar.com/event/hold-program-221068
END:VEVENT
END:VCALENDAR
