BEGIN:VCALENDAR
VERSION:2.0
PRODID:-//Library Market//iCal Export//EN
BEGIN:VEVENT
SUMMARY:DIY Crafts: Quilling Coasters
UID:221071
DTSTAMP:20260425T210800Z
DTSTART:20260713T230000Z
DTEND:20260714T000000Z
LOCATION:Middendorf-Kredell Branch, 2750 State Hwy K, O&#039;Fallon, MO 63
 368, United States
ROOM: Community Room C
DESCRIPTION:Use paper quilling to create a coaster.
URL:https://stcharles.librarycalendar.com/event/hold-program-221071
END:VEVENT
END:VCALENDAR
