BEGIN:VCALENDAR
VERSION:2.0
PRODID:-//Library Market//iCal Export//EN
BEGIN:VEVENT
SUMMARY:Book Discussion: &quot;The Wedding People&quot; by Alison Espach
UID:221357
DTSTAMP:20260424T081900Z
DTSTART:20260720T190000Z
DTEND:20260720T200000Z
LOCATION:Augusta Branch, 198 Jackson St, Augusta, MO 63332, United States
ROOM: Conference Room
DESCRIPTION:&quot;It&#039;s a beautiful day in Newport, Rhode Island, when
  Phoebe Stone arrives at the grand Cornwall Inn wearing a green dress and 
 gold heels, not a bag in sight, alone. She&#039;s immediately mistaken by 
 everyone in the lobby for one of the wedding people, but she&#039;s actual
 ly the only guest at the Cornwall who isn&#039;t here for the big event. P
 hoebe is here because she&#039;s dreamed of coming for years--she hoped to
  shuck oysters and take sunset sails with her husband, only now she&#039;s
  here without him, at rock bottom, and determined to have one last decaden
 t splurge on herself. Meanwhile, the bride has accounted for every detail 
 and every possible disaster the weekend might yield except for, well, Phoe
 be and Phoebe&#039;s plan--which makes it that much more surprising when t
 he two women can&#039;t stop confiding in each other. 
URL:https://stcharles.librarycalendar.com/event/book-discussion-221357
END:VEVENT
END:VCALENDAR
