BEGIN:VCALENDAR
VERSION:2.0
PRODID:-//Library Market//iCal Export//EN
BEGIN:VEVENT
SUMMARY:Story Time
UID:223287
DTSTAMP:20260423T054500Z
DTSTART:20261014T150000Z
DTEND:20261014T154500Z
LOCATION:McClay Branch, 2760 McClay Rd, St Charles, MO 63303, United State
 s
ROOM: Community Room A&amp;B
DESCRIPTION:
URL:https://stcharles.librarycalendar.com/event/story-time-223287
END:VEVENT
END:VCALENDAR
