BEGIN:VCALENDAR
VERSION:2.0
PRODID:-//Library Market//iCal Export//EN
BEGIN:VEVENT
SUMMARY:Story Time
UID:223295
DTSTAMP:20260422T005400Z
DTSTART:20261216T160000Z
DTEND:20261216T164500Z
LOCATION:McClay Branch, 2760 McClay Rd, St Charles, MO 63303, United State
 s
ROOM: Community Room A&amp;B
DESCRIPTION:
URL:https://stcharles.librarycalendar.com/event/story-time-223295
END:VEVENT
END:VCALENDAR
