BEGIN:VCALENDAR
VERSION:2.0
PRODID:-//Library Market//iCal Export//EN
BEGIN:VEVENT
SUMMARY:Story Time
UID:223297
DTSTAMP:20260424T081900Z
DTSTART:20261230T160000Z
DTEND:20261230T164500Z
LOCATION:McClay Branch, 2760 McClay Rd, St Charles, MO 63303, United State
 s
ROOM: Community Room A&amp;B
DESCRIPTION:
URL:https://stcharles.librarycalendar.com/event/story-time-223297
END:VEVENT
END:VCALENDAR
