BEGIN:VCALENDAR
VERSION:2.0
PRODID:-//Library Market//iCal Export//EN
BEGIN:VEVENT
SUMMARY:Book Discussion: &quot;Call Your Daughter Home&quot; by Deb Spera
UID:223710
DTSTAMP:20260423T071500Z
DTSTART:20260713T223000Z
DTEND:20260713T233000Z
LOCATION:Boone&#039;s Trail Branch, 10 Fiddlecreek Ridge Rd, Wentzville, M
 O 63385, United States
ROOM: Community Room
DESCRIPTION:It&#039;s 1924 South Carolina and the region is still recoveri
 ng from the infamous boll weevil infestation that devastated the land and 
 the economy. Gertrude, a mother of four, must make an unconscionable decis
 ion to save her daughters from starvation or die at the hands of an abusiv
 e husband. Retta is navigating a harsh world as a first-generation freed s
 lave, still employed by the Coles, influential plantation proprietors who 
 once owned her family. Annie is the matriarch of the Coles family and must
  come to terms with the terrible truth that has ripped her family apart. T
 hese three women seemingly have nothing in common, yet as they unite to st
 and up to the terrible injustices that have long plagued the small town, t
 hey find strength in the bond that ties women together.Search for the eboo
 k and/or eaudiobook on stchlibrary.org
URL:https://stcharles.librarycalendar.com/event/book-discussion-223710
END:VEVENT
END:VCALENDAR
