BEGIN:VCALENDAR
VERSION:2.0
PRODID:-//Library Market//iCal Export//EN
BEGIN:VEVENT
SUMMARY:Bullet Journal &amp; Planner Meetup
UID:224325
DTSTAMP:20260420T090200Z
DTSTART:20260727T223000Z
DTEND:20260728T000000Z
LOCATION:Middendorf-Kredell Branch, 2750 State Hwy K, O&#039;Fallon, MO 63
 368, United States
ROOM: Community Room C
DESCRIPTION: Bring your planner or bullet journal to work on decorating a
 nd prepping your pages. If you have extra supplies, feel free to bring the
 m to share or swap. We will have some fineliner pens, highlighters, stenci
 ls, and more available for use.This is a coworking session and not a how-t
 o class, but we are happy to help get you started with some ideas if you&#
 039;re new!
URL:https://stcharles.librarycalendar.com/event/bullet-journal-and-planner
 -meetup8
END:VEVENT
END:VCALENDAR
