BEGIN:VCALENDAR
VERSION:2.0
PRODID:-//Library Market//iCal Export//EN
BEGIN:VEVENT
SUMMARY:Let&#039;s Create: Wooden Dinosaur Craft
UID:224557
DTSTAMP:20260421T110900Z
DTSTART:20260613T153000Z
DTEND:20260613T163000Z
LOCATION:Cliff View Branch, 10 Cliff View Dr, Wentzville, MO 63385, United
  States
ROOM: Community Room
DESCRIPTION:Come create your very own wooden dinosaur with acrylic paint. 
 Dress to be messy. This program is recommended for grades K-3. 
URL:https://stcharles.librarycalendar.com/event/hold-future-program-224557
END:VEVENT
END:VCALENDAR
