BEGIN:VCALENDAR
VERSION:2.0
PRODID:-//Library Market//iCal Export//EN
BEGIN:VEVENT
SUMMARY:Teens Read: &quot;A Study in Drowning&quot; by Ava Reid
UID:224785
DTSTAMP:20260425T210800Z
DTSTART:20260721T233000Z
DTEND:20260722T003000Z
LOCATION:Middendorf-Kredell Branch, 2750 State Hwy K, O&#039;Fallon, MO 63
 368, United States
ROOM: Community Room B
DESCRIPTION:Pick up copies of this month&#039;s books at the Youth Service
 s desk at the Middendorf-Kredell branch.A book club just for teens! Read t
 he book, then come to the Library to discuss with other teens, enjoy snack
 s, and do activities related to the book!Search for the ebook and/or eaudi
 obook HERE. &quot;Entering a contest to redesign late author Emrys Myrddi
 n&#039;s estate, aspiring architect Effy Sayre arrives at Hiraeth Manor wh
 ere she meets a stodgy young literature scholar who draws her into a battl
 e against dark forces - both mortal and magical - that threatens to consum
 e them both.&quot; 
URL:https://stcharles.librarycalendar.com/event/hold-teens-read-224785
END:VEVENT
END:VCALENDAR
