BEGIN:VCALENDAR
VERSION:2.0
PRODID:-//Library Market//iCal Export//EN
BEGIN:VEVENT
SUMMARY:Lego Masters
UID:225330
DTSTAMP:20260425T210800Z
DTSTART:20260716T233000Z
DTEND:20260717T003000Z
LOCATION:Middendorf-Kredell Branch, 2750 State Hwy K, O&#039;Fallon, MO 63
 368, United States
ROOM: Community Room C
DESCRIPTION:Test your Lego building skills by constructing a creation cent
 ered around a &quot;mystery&quot; piece.This program is intended for Grade
 s 6 and up, including Adults. For younger children, please check out our m
 onthly Lego Builders Jr. (Pre-K) and Lego Builders (Grades K-5) programs.Â
  
URL:https://stcharles.librarycalendar.com/event/lego-masters-225330
END:VEVENT
END:VCALENDAR
