BEGIN:VCALENDAR
VERSION:2.0
PRODID:-//Library Market//iCal Export//EN
BEGIN:VEVENT
SUMMARY:Family Fun: Globe Trotters
UID:225639
DTSTAMP:20260422T101800Z
DTSTART:20260713T230000Z
DTEND:20260714T000000Z
LOCATION:Middendorf-Kredell Branch, 2750 State Hwy K, O&#039;Fallon, MO 63
 368, United States
ROOM: Community Room A&amp;B
DESCRIPTION:Explore the culture of Canada with hands-on activities, games,
  and crafts!  We will learn fun facts, how to speak some unique words an
 d phrases, and even try a local snack.Collect a sticker from each country 
 we explore, and add it to your Globe Trotters passport! 
URL:https://stcharles.librarycalendar.com/event/hold-globe-trotters-225639
END:VEVENT
END:VCALENDAR
