BEGIN:VCALENDAR
VERSION:2.0
PRODID:-//Library Market//iCal Export//EN
BEGIN:VEVENT
SUMMARY:LEGO Builders
UID:225677
DTSTAMP:20260425T210800Z
DTSTART:20260727T230000Z
DTEND:20260728T000000Z
LOCATION:Middendorf-Kredell Branch, 2750 State Hwy K, O&#039;Fallon, MO 63
 368, United States
ROOM: Community Room A&amp;B
DESCRIPTION:Listen to a story and play with the library&#039;s LEGO bricks
 .
URL:https://stcharles.librarycalendar.com/event/hold-lego-builders-225677
END:VEVENT
END:VCALENDAR
