BEGIN:VCALENDAR
VERSION:2.0
PRODID:-//Library Market//iCal Export//EN
BEGIN:VEVENT
SUMMARY:Growing Artists: Underground Art
UID:226099
DTSTAMP:20260425T210800Z
DTSTART:20260710T150000Z
DTEND:20260710T160000Z
LOCATION:Middendorf-Kredell Branch, 2750 State Hwy K, O&#039;Fallon, MO 63
 368, United States
ROOM: Community Room A&amp;B
DESCRIPTION: Join us at the library for underground-themed art projects a
 nd activities, including the three shown above! All supplies will be provi
 ded.Parents and/or caregivers do not need to register!
URL:https://stcharles.librarycalendar.com/event/hold-growing-artists-22609
 9
END:VEVENT
END:VCALENDAR
