BEGIN:VCALENDAR
VERSION:2.0
PRODID:-//Library Market//iCal Export//EN
BEGIN:VEVENT
SUMMARY:Book Discussion: &quot;Isola&quot; by Allegra Goodman
UID:226374
DTSTAMP:20260419T153700Z
DTSTART:20260728T233000Z
DTEND:20260729T003000Z
LOCATION:Corporate Parkway Branch, 1200 Corporate Pkwy, Wentzville, MO 633
 85, United States
ROOM: Community Room A&amp;B
DESCRIPTION:A young woman and her lover are marooned on an island in this 
 breathtaking saga, an epic story of love, faith, and defiance from the bes
 tselling author of Sam “A shocking story, made all the more stunning by 
 the fact that it has its roots in true history.”—Jodi Picoult, author 
 of By Any Other Name “What a gift this novel is: vast, lush, feminist, a
 nd brilliantly crafted. Allegra Goodman is one of our finest writers.”
 Ann Napolitano, author of Hello Beautiful Heir to a fortune, Marguerite 
 is destined for a life of prosperity and gentility. Then she is orphaned,
  and her guardian—an enigmatic and volatile man—spends her inheritance
  and insists she accompany him on an expedition to New France. Isolated a
 nd afraid, Marguerite befriends her guardian’s servant and the two devel
 op an intense attraction. But when their relationship is discovered, they 
 are brutally punished and abandoned on a small island with no hope for res
 cue. Once a child of privilege who dressed in gowns and laced pearls in he
 r hair, Marguerite finds herself at the mercy of nature. As the weather tu
 rns, blanketing the island in ice, she discovers a faith she’d never bef
 ore needed. Inspired by the real life of a sixteenth-century heroine,  Is
 ola  is the timeless story of a woman fighting for survival-- Provided b
 y the publisher Search for the ebook and/or eaudiobook at stchlibrary.o
 rg  
URL:https://stcharles.librarycalendar.com/event/book-discussion-226374
END:VEVENT
END:VCALENDAR
