BEGIN:VCALENDAR
VERSION:2.0
PRODID:-//Library Market//iCal Export//EN
BEGIN:VEVENT
SUMMARY:Growing Minds: Pretend Play Dino Dig
UID:227989
DTSTAMP:20260424T081900Z
DTSTART:20260717T150000Z
DTEND:20260717T163000Z
LOCATION:Middendorf-Kredell Branch, 2750 State Hwy K, O&#039;Fallon, MO 63
 368, United States
ROOM: Community Room A&amp;B
DESCRIPTION:Pretend play grows imaginations, fine motor skills, STEM skill
 s, and so much more!  Celebrate the Library&#039;s Summer Challenge theme
 , Unearth A Story, and join us for a Dino Dig.  We&#039;ll start with a s
 tory and then our young paleontologists can put their imaginations to work
 .  Children can check out learning activities, make crafts, and engage in
  pretend play activities.This class is also being held on Friday afternoon
  and Saturday morning . Please only register for one session!  
URL:https://stcharles.librarycalendar.com/event/preschool-pretend-play-227
 989
END:VEVENT
END:VCALENDAR
