BEGIN:VCALENDAR
VERSION:2.0
PRODID:-//Library Market//iCal Export//EN
BEGIN:VEVENT
SUMMARY:Family Fun: Underground Art
UID:228408
DTSTAMP:20260424T133100Z
DTSTART:20260707T230000Z
DTEND:20260708T000000Z
LOCATION:Middendorf-Kredell Branch, 2750 State Hwy K, O&#039;Fallon, MO 63
 368, United States
ROOM: Community Room A&amp;B
DESCRIPTION: Join us at the library for underground-themed art projects a
 nd activities, including the three shown above! All supplies will be provi
 ded.This art program is recommended for families. Children must be accompa
 nied by an adult.
URL:https://stcharles.librarycalendar.com/event/hold-growing-artists-22840
 8
END:VEVENT
END:VCALENDAR
