BEGIN:VCALENDAR
VERSION:2.0
PRODID:-//Library Market//iCal Export//EN
BEGIN:VEVENT
SUMMARY:Hold For Future Program
UID:230606
DTSTAMP:20260420T090200Z
DTSTART:20260420T200000Z
DTEND:20260420T220000Z
LOCATION:Middendorf-Kredell Branch, 2750 State Hwy K, O&#039;Fallon, MO 63
 368, United States
ROOM: Community Room A - BJC Progress West Room
DESCRIPTION:Junk Journaling
URL:https://stcharles.librarycalendar.com/event/hold-future-program-230606
END:VEVENT
END:VCALENDAR
