BEGIN:VCALENDAR
VERSION:2.0
PRODID:-//Library Market//iCal Export//EN
BEGIN:VEVENT
SUMMARY:Growing Minds: Pretend Play
UID:245463
DTSTAMP:20260419T182000Z
DTSTART:20260718T150000Z
DTEND:20260718T163000Z
LOCATION:Corporate Parkway Branch, 1200 Corporate Pkwy, Wentzville, MO 633
 85, United States
ROOM: Community Room A&amp;B
DESCRIPTION:
URL:https://stcharles.librarycalendar.com/event/growing-minds-pretend-play
 -245463
END:VEVENT
END:VCALENDAR
