BEGIN:VCALENDAR
VERSION:2.0
PRODID:-//Library Market//iCal Export//EN
BEGIN:VEVENT
SUMMARY:Craft &amp; Culture: &quot;My Neighbor Totoro&quot; Craft Night
UID:249593
DTSTAMP:20260421T095300Z
DTSTART:20260601T230000Z
DTEND:20260602T003000Z
LOCATION:WingHavenÂ® Branch, 7435 Village Center Dr, O&#039;Fallon, MO 6
 3368, United States
ROOM: Community Room
DESCRIPTION:Manga and Anime fans are invited to come make Soot Sprites, or
  Susuwatari (&quot;wandering soot&quot;). They are small, pitch-black, fuz
 zy spirits featured in Studio Ghibli&#039;s My Neighbor Totoro and Spirite
 d Away. These golf-ball-sized creatures inhabit abandoned buildings and bo
 iler rooms, often carrying coal or star-shaped sugar candy (konpeito) with
  long, thin limbs. They are known for being shy, industrious, and vanishin
 g when not given work. 
URL:https://stcharles.librarycalendar.com/event/craft-culture-249593
END:VEVENT
END:VCALENDAR
