BEGIN:VCALENDAR
VERSION:2.0
PRODID:-//Library Market//iCal Export//EN
BEGIN:VEVENT
SUMMARY:Parachute Play
UID:249902
DTSTAMP:20260422T101800Z
DTSTART:20260703T150000Z
DTEND:20260703T153000Z
LOCATION:Middendorf-Kredell Branch, 2750 State Hwy K, O&#039;Fallon, MO 63
 368, United States
ROOM: Community Room A&amp;B
DESCRIPTION:Join us for fun, active play with a bright, colorful parachute
 ! Perfect for preschoolers and their grown-ups.
URL:https://stcharles.librarycalendar.com/event/hold-youth-program-249902
END:VEVENT
END:VCALENDAR
