BEGIN:VCALENDAR
VERSION:2.0
PRODID:-//Library Market//iCal Export//EN
BEGIN:VEVENT
SUMMARY:DIY Crafts: Dinosaur Terrariums
UID:250020
DTSTAMP:20260421T110900Z
DTSTART:20260603T230000Z
DTEND:20260604T000000Z
LOCATION:WingHavenÂ® Branch, 7435 Village Center Dr, O&#039;Fallon, MO 6
 3368, United States
ROOM: Community Room
DESCRIPTION:Create your very own decorative dinosaur terrarium in a mason 
 jar!
URL:https://stcharles.librarycalendar.com/event/hold-event-250020
END:VEVENT
END:VCALENDAR
