BEGIN:VCALENDAR
VERSION:2.0
PRODID:-//Library Market//iCal Export//EN
BEGIN:VEVENT
SUMMARY:Dinosaur Stomp
UID:256864
DTSTAMP:20260422T101800Z
DTSTART:20260703T153000Z
DTEND:20260703T160000Z
LOCATION:Middendorf-Kredell Branch, 2750 State Hwy K, O&#039;Fallon, MO 63
 368, United States
ROOM: Community Room A&amp;B
DESCRIPTION:Stomp, sing, and roar along at Dinosaur Stomp! Bring the whole
  family for a lively program packed with songs, instruments, and dancingâ€
 ”all celebrating our Summer Challenge dinosaur theme.Get ready to move, ma
 ke music, and have a dino-sized adventure together!
URL:https://stcharles.librarycalendar.com/event/hold-dinosaur-stomp-256864
END:VEVENT
END:VCALENDAR
