BEGIN:VCALENDAR
VERSION:2.0
PRODID:-//Library Market//iCal Export//EN
BEGIN:VEVENT
SUMMARY:Growing Artists: Dinosaurs
UID:258419
DTSTAMP:20260422T005400Z
DTSTART:20260608T153000Z
DTEND:20260608T163000Z
LOCATION:WingHavenÂ® Branch, 7435 Village Center Dr, O&#039;Fallon, MO 6
 3368, United States
ROOM: Community Room
DESCRIPTION:Join us to create two dinosaur themed crafts!
URL:https://stcharles.librarycalendar.com/event/hold-growing-artists-25841
 9
END:VEVENT
END:VCALENDAR
