BEGIN:VCALENDAR
VERSION:2.0
PRODID:-//Library Market//iCal Export//EN
BEGIN:VEVENT
SUMMARY:Watercolor 101: Summer Fruits
UID:258568
DTSTAMP:20260423T071500Z
DTSTART:20260613T190000Z
DTEND:20260613T203000Z
LOCATION:WingHavenÂ® Branch, 7435 Village Center Dr, O&#039;Fallon, MO 6
 3368, United States
ROOM: Community Room
DESCRIPTION:Color your world with watercolors! Join us in this comprehensi
 ve beginner’s class as we navigate all the basics. We will put our new s
 kills into practice by painting simple summer fruits. 
URL:https://stcharles.librarycalendar.com/event/hold-adult-program-258568
END:VEVENT
END:VCALENDAR
