BEGIN:VCALENDAR
VERSION:2.0
PRODID:-//Library Market//iCal Export//EN
BEGIN:VEVENT
SUMMARY:Let&#039;s Create: Dinosaur Paint Party
UID:264971
DTSTAMP:20260425T210800Z
DTSTART:20260722T193000Z
DTEND:20260722T203000Z
LOCATION:Middendorf-Kredell Branch, 2750 State Hwy K, O&#039;Fallon, MO 63
 368, United States
ROOM: Community Room B
DESCRIPTION: Use acrylic paint to create your own brachiosaurus dinosaur 
 painting! All supplies will be provided. This class is intended for grade
 s K-5. Please only register children in that grade range who will be atte
 nding. Parents do not need to register. This program is also being offere
 d as a family program on Tuesday, July 21 at 6 pm. Please only register fo
 r one program!
URL:https://stcharles.librarycalendar.com/event/lets-create-dinosaur-paint
 -party-264971
END:VEVENT
END:VCALENDAR
