BEGIN:VCALENDAR
VERSION:2.0
PRODID:-//Library Market//iCal Export//EN
BEGIN:VEVENT
SUMMARY:Family Fun: Dinosaur Paint Party
UID:265039
DTSTAMP:20260425T210800Z
DTSTART:20260721T230000Z
DTEND:20260722T000000Z
LOCATION:Middendorf-Kredell Branch, 2750 State Hwy K, O&#039;Fallon, MO 63
 368, United States
ROOM: Community Room A - BJC Progress West Room
DESCRIPTION: Use acrylic paint to create your own brachiosaurus dinosaur 
 painting! All supplies will be provided. This art program is recommended 
 for families. Children must be accompanied by an adult. This program is a
 lso being offered for school age children on Wednesday, July 22 at 2:30 pm
 . Please only register for one program!
URL:https://stcharles.librarycalendar.com/event/lets-create-dinosaur-paint
 -party-265039
END:VEVENT
END:VCALENDAR
