BEGIN:VCALENDAR
VERSION:2.0
PRODID:-//Library Market//iCal Export//EN
BEGIN:VEVENT
SUMMARY:Pajama Story Time
UID:265159
DTSTAMP:20260422T101800Z
DTSTART:20260708T230000Z
DTEND:20260708T234500Z
LOCATION:Middendorf-Kredell Branch, 2750 State Hwy K, O&#039;Fallon, MO 63
 368, United States
ROOM: Community Room B
DESCRIPTION:
URL:https://stcharles.librarycalendar.com/event/pajama-story-time-265159
END:VEVENT
END:VCALENDAR
