BEGIN:VCALENDAR
VERSION:2.0
PRODID:-//Library Market//iCal Export//EN
BEGIN:VEVENT
SUMMARY:Kinusaiga Sun Art
UID:275284
DTSTAMP:20260425T210800Z
DTSTART:20260706T190000Z
DTEND:20260706T200000Z
LOCATION:Middendorf-Kredell Branch, 2750 State Hwy K, O&#039;Fallon, MO 63
 368, United States
ROOM: Community Room A&amp;B
DESCRIPTION:Join us to discover Kinusaiga, a Japanese no sew fabric art wh
 ere pieces of fabric are tucked into grooves on a foam board to create tex
 tured, mosaic like designs.In this beginner friendly class, you will learn
  to cut grooves, choose fabrics, and create your own artwork. No sewing sk
 ills required. Just bring your creativity and enjoy a relaxing, hands on c
 raft that gives new life to fabric scraps.
URL:https://stcharles.librarycalendar.com/event/hold-future-program-275284
END:VEVENT
END:VCALENDAR
