BEGIN:VCALENDAR
VERSION:2.0
PRODID:-//Library Market//iCal Export//EN
BEGIN:VEVENT
SUMMARY:Stitching Card: Dinosaur
UID:278821
DTSTAMP:20260421T110900Z
DTSTART:20260720T200000Z
DTEND:20260720T213000Z
LOCATION:Middendorf-Kredell Branch, 2750 State Hwy K, O&#039;Fallon, MO 63
 368, United States
ROOM: Community Room A - BJC Progress West Room
DESCRIPTION:Learn how to make a dinosaur stitching card using needle and t
 hread on cardstock. No sewing experience needed!
URL:https://stcharles.librarycalendar.com/event/stitching-card-dinosaur
END:VEVENT
END:VCALENDAR
