BEGIN:VCALENDAR
VERSION:2.0
PRODID:-//Library Market//iCal Export//EN
BEGIN:VEVENT
SUMMARY:Growing Minds: Space, Sun, and Moon
UID:282191
DTSTAMP:20260422T101800Z
DTSTART:20260518T153000Z
DTEND:20260518T163000Z
LOCATION:Cliff View Branch, 10 Cliff View Dr, Wentzville, MO 63385, United
  States
ROOM: Community Room
DESCRIPTION:Join us for fun activities to learn about space and the sun an
 d moon!This program will be held on May 4 at the WingHaven® Branch and Ma
 y 18 at the Cliff View Branch, please only register for one session.   
URL:https://stcharles.librarycalendar.com/event/hold-growing-artistsminds-
 282191
END:VEVENT
END:VCALENDAR
