BEGIN:VCALENDAR
VERSION:2.0
PRODID:-//Library Market//iCal Export//EN
BEGIN:VEVENT
SUMMARY:Let&#039;s Party: Minions
UID:283718
DTSTAMP:20260422T101800Z
DTSTART:20260702T193000Z
DTEND:20260702T203000Z
LOCATION:Middendorf-Kredell Branch, 2750 State Hwy K, O&#039;Fallon, MO 63
 368, United States
ROOM: Community Room A&amp;B
DESCRIPTION:Celebrate the release of the Minions &amp; Monsters movie with
  a party packed full of games, crafts, and Minions-themed fun!  
URL:https://stcharles.librarycalendar.com/event/hold-lets-party-minions-28
 3718
END:VEVENT
END:VCALENDAR
