BEGIN:VCALENDAR
VERSION:2.0
PRODID:-//Library Market//iCal Export//EN
BEGIN:VEVENT
SUMMARY:DIY Crafts: Glass Photo Pendants
UID:285397
DTSTAMP:20260425T203700Z
DTSTART:20260713T190000Z
DTEND:20260713T200000Z
LOCATION:Middendorf-Kredell Branch, 2750 State Hwy K, O&#039;Fallon, MO 63
 368, United States
ROOM: Community Room C
DESCRIPTION:Preserve and honor special memories by turning photos into a g
 lass cabochon necklace.Note that the photo will be cut to fit a 1 inch pen
 dant. Please bring or print a copy of the photo you&#039;d like to use. If
  you&#039;re unsure of how to resize your photo or print it, you can email
  your photo to areel@stchlibrary.org for Anna to have ready for you at the
  program. If you need assistance making a copy of a developed photo, you c
 an ask a library worker at your local branch to help you scan or print a c
 opy.
URL:https://stcharles.librarycalendar.com/event/hold-future-program-285397
END:VEVENT
END:VCALENDAR
