BEGIN:VCALENDAR
VERSION:2.0
PRODID:-//Library Market//iCal Export//EN
BEGIN:VEVENT
SUMMARY:Diamond Painting-Birthday Cards
UID:285442
DTSTAMP:20260421T110900Z
DTSTART:20260620T153000Z
DTEND:20260620T170000Z
LOCATION:Cliff View Branch, 10 Cliff View Dr, Wentzville, MO 63385, United
  States
ROOM: Community Room
DESCRIPTION:This month we will get creative and embellish birthday cards f
 rom an assortment of cards! Join us as we use leftover dazzling Diamond Do
 tz and a needle tip glue bottle for the application. They will make an ado
 rable keepsake card for any upcoming birthday you may have on your calenda
 r.  
URL:https://stcharles.librarycalendar.com/event/copy-hold-future-program-2
 85442
END:VEVENT
END:VCALENDAR
