BEGIN:VCALENDAR
VERSION:2.0
PRODID:-//Library Market//iCal Export//EN
BEGIN:VEVENT
SUMMARY:Bunco
UID:285842
DTSTAMP:20260424T081900Z
DTSTART:20260828T190000Z
DTEND:20260828T203000Z
LOCATION:McClay Branch, 2760 McClay Rd, St Charles, MO 63303, United State
 s
ROOM: Community Room A&amp;B
DESCRIPTION:Roll the Die! Bunco is an easy, fast-paced dice game that requ
 ires no previous skill. 
URL:https://stcharles.librarycalendar.com/event/bunco-285842
END:VEVENT
END:VCALENDAR
