BEGIN:VCALENDAR
VERSION:2.0
PRODID:-//Library Market//iCal Export//EN
BEGIN:VEVENT
SUMMARY:Pokémon: The Card Game
UID:287019
DTSTAMP:20260422T005400Z
DTSTART:20260606T160000Z
DTEND:20260606T173000Z
LOCATION:WingHavenÂ® Branch, 7435 Village Center Dr, O&#039;Fallon, MO 6
 3368, United States
ROOM: Community Room
DESCRIPTION:If you love playing the Pokémon Card Game, want to learn, or 
 just want to show off your personal card collection and do some trading, j
 oin us! All experience levels are welcome.If you have your own play deck, 
 please bring it. We will have some play decks here for those who don&#039;
 t have one to use during the program. A deck consists of 60 cards: a mix o
 f Pokémon (including basic Pokémon &amp; their evolutions), Trainer, and
  Energy cards. 
URL:https://stcharles.librarycalendar.com/event/pokemon-card-game-287019
END:VEVENT
END:VCALENDAR
