BEGIN:VCALENDAR
VERSION:2.0
PRODID:-//Library Market//iCal Export//EN
BEGIN:VEVENT
SUMMARY:Beginner&#039;s Astrology Workshop
UID:288913
DTSTAMP:20260426T002400Z
DTSTART:20260721T230000Z
DTEND:20260722T000000Z
LOCATION:Kathryn Linnemann Branch, 2323 Elm Street, St Charles, MO 63301, 
 United States
ROOM: Community Room A
DESCRIPTION:Come learn the basics of astrology and discover your birth cha
 rt! Participants will learn the characteristics of their particular star s
 igns, read their horoscope, hear a short instructional presentation about 
 astrology, and be given resources for further learning. If you&#039;re int
 erested in finding out more about this fun tool for self reflection, this 
 program is for you! In order to ensure full accuracy on your birth chart,
  please bring or know your time and place of birth for this program.
URL:https://stcharles.librarycalendar.com/event/beginners-astrology-worksh
 op-288913
END:VEVENT
END:VCALENDAR
