BEGIN:VCALENDAR
VERSION:2.0
PRODID:-//Library Market//iCal Export//EN
BEGIN:VEVENT
SUMMARY:Alphabet Soup
UID:290099
DTSTAMP:20260419T153700Z
DTSTART:20270212T213000Z
DTEND:20270212T223000Z
LOCATION:Corporate Parkway Branch, 1200 Corporate Pkwy, Wentzville, MO 633
 85, United States
ROOM: Community Room A&amp;B
DESCRIPTION:
URL:https://stcharles.librarycalendar.com/event/alphabet-soup-290099
END:VEVENT
END:VCALENDAR
