BEGIN:VCALENDAR
VERSION:2.0
PRODID:-//Library Market//iCal Export//EN
BEGIN:VEVENT
SUMMARY:Beaded Bugs
UID:290360
DTSTAMP:20260421T110900Z
DTSTART:20260709T220000Z
DTEND:20260709T233000Z
LOCATION:Augusta Branch, 198 Jackson St, Augusta, MO 63332, United States
ROOM: Conference Room
DESCRIPTION:&quot;Unearth&quot; some delightful beaded bugs by creating a 
 beautiful entomological display. You can make your bugs cute or creepy out
  of assorted beads and findings, sew them onto a fabric background, and th
 en embroider on legs and antennae. 
URL:https://stcharles.librarycalendar.com/event/beaded-bugs-290360
END:VEVENT
END:VCALENDAR
