BEGIN:VCALENDAR
VERSION:2.0
PRODID:-//Library Market//iCal Export//EN
BEGIN:VEVENT
SUMMARY:Game On: Tenzi
UID:291446
DTSTAMP:20260426T002400Z
DTSTART:20260706T230000Z
DTEND:20260707T000000Z
LOCATION:Kathryn Linnemann Branch, 2323 Elm Street, St Charles, MO 63301, 
 United States
ROOM: Community Room A
DESCRIPTION:Grab a friend and come on down to the Library to learn a fun d
 ice game! The winner of each round will win a special Summer Challenge pri
 ze! 
URL:https://stcharles.librarycalendar.com/event/game-tenzi-291446
END:VEVENT
END:VCALENDAR
