BEGIN:VCALENDAR
VERSION:2.0
PRODID:-//Library Market//iCal Export//EN
BEGIN:VEVENT
SUMMARY:Early Movers and Shakers
UID:292098
DTSTAMP:20260421T164200Z
DTSTART:20260423T190000Z
DTEND:20260423T200000Z
LOCATION:Spencer Road Branch, 427 Spencer Rd, St. Peters, MO 63376, United
  States
ROOM: Event Room L - Siteman at BJC St. Peters Room
DESCRIPTION:Join JP Moneybags, a prominent businessman from the turn of th
 e 20th century, as he shares his insights on the successful journey of ent
 repreneurs in various industries. Join us in this program to discover whet
 her their road to success was riddled with difficulties and obstacles, and
  how they overcame these challenges to achieve great heights. Learn from t
 he Success Stories of Marshall Field, William Wrigley, Charles Walgreen, R
 ay Kroc, and Frederick Maytag. Let them inspire you to never give up on yo
 ur dreams!This program is on tour around the district! Check the April cal
 endar to view the full list of available dates. 
URL:https://stcharles.librarycalendar.com/event/early-movers-and-shakers-2
 92098
END:VEVENT
END:VCALENDAR
