BEGIN:VCALENDAR
VERSION:2.0
PRODID:-//Library Market//iCal Export//EN
BEGIN:VEVENT
SUMMARY:Secrets of Excellent Job Applications
UID:292201
DTSTAMP:20260422T101800Z
DTSTART:20260507T230000Z
DTEND:20260508T000000Z
LOCATION:Corporate Parkway Branch, 1200 Corporate Pkwy, Wentzville, MO 633
 85, United States
ROOM: Community Room A&amp;B
DESCRIPTION:Learn how to effectively complete online job applications. Att
 endees can bring a job application for a five minute review.Presented by F
 rank Alaniz
URL:https://stcharles.librarycalendar.com/event/secrets-excellent-job-appl
 ications-292201
END:VEVENT
END:VCALENDAR
